BEGIN:VCALENDAR
VERSION:2.0
PRODID:-//HoMM - ECPv6.15.20//NONSGML v1.0//EN
CALSCALE:GREGORIAN
METHOD:PUBLISH
X-WR-CALNAME:HoMM
X-ORIGINAL-URL:https://homm-berlin.de
X-WR-CALDESC:Veranstaltungen für HoMM
REFRESH-INTERVAL;VALUE=DURATION:PT1H
X-Robots-Tag:noindex
X-PUBLISHED-TTL:PT1H
BEGIN:VTIMEZONE
TZID:Europe/Berlin
BEGIN:DAYLIGHT
TZOFFSETFROM:+0100
TZOFFSETTO:+0200
TZNAME:CEST
DTSTART:20220327T010000
END:DAYLIGHT
BEGIN:STANDARD
TZOFFSETFROM:+0200
TZOFFSETTO:+0100
TZNAME:CET
DTSTART:20221030T010000
END:STANDARD
BEGIN:DAYLIGHT
TZOFFSETFROM:+0100
TZOFFSETTO:+0200
TZNAME:CEST
DTSTART:20230326T010000
END:DAYLIGHT
BEGIN:STANDARD
TZOFFSETFROM:+0200
TZOFFSETTO:+0100
TZNAME:CET
DTSTART:20231029T010000
END:STANDARD
BEGIN:DAYLIGHT
TZOFFSETFROM:+0100
TZOFFSETTO:+0200
TZNAME:CEST
DTSTART:20240331T010000
END:DAYLIGHT
BEGIN:STANDARD
TZOFFSETFROM:+0200
TZOFFSETTO:+0100
TZNAME:CET
DTSTART:20241027T010000
END:STANDARD
END:VTIMEZONE
BEGIN:VEVENT
DTSTART;TZID=Europe/Berlin:20231006T150000
DTEND;TZID=Europe/Berlin:20231006T163000
DTSTAMP:20260424T214335
CREATED:20230901T063833Z
LAST-MODIFIED:20230913T094245Z
UID:406-1696604400-1696609800@homm-berlin.de
SUMMARY:Elterncafé
DESCRIPTION:Wir hoffen\, Sie hatten alle einen großartigen Start in das neue Schuljahr! Nach den aufregenden ersten Wochen möchten wir Sie herzlich zum ersten Elterncafé des Jahres einladen. \nDas Elterncafé bietet eine wunderbare Gelegenheit\, sich in entspannter Atmosphäre auszutauschen\, neue Kontakte zu knüpfen und gemeinsame Zeit mit Ihren Kindern im Hort zu verbringen. Begleitet von einem leckeren Stück Kuchen und einer Tasse Kaffee oder Schorle. \nDiesmal richtet die Gruppe „Knallfrösche“ das Elterncafé aus und freut sich schon sehr auf Ihren Besuch. Wie immer findet das Elterncafé in unserer Mensa statt.  \n 
URL:https://homm-berlin.de/event/elterncafe/
LOCATION:Mensa
CATEGORIES:Termine für Eltern
END:VEVENT
END:VCALENDAR