BEGIN:VCALENDAR
VERSION:2.0
PRODID:-//HoMM - ECPv6.15.20//NONSGML v1.0//EN
CALSCALE:GREGORIAN
METHOD:PUBLISH
X-ORIGINAL-URL:https://homm-berlin.de
X-WR-CALDESC:Veranstaltungen für HoMM
REFRESH-INTERVAL;VALUE=DURATION:PT1H
X-Robots-Tag:noindex
X-PUBLISHED-TTL:PT1H
BEGIN:VTIMEZONE
TZID:Europe/Berlin
BEGIN:DAYLIGHT
TZOFFSETFROM:+0100
TZOFFSETTO:+0200
TZNAME:CEST
DTSTART:20220327T010000
END:DAYLIGHT
BEGIN:STANDARD
TZOFFSETFROM:+0200
TZOFFSETTO:+0100
TZNAME:CET
DTSTART:20221030T010000
END:STANDARD
BEGIN:DAYLIGHT
TZOFFSETFROM:+0100
TZOFFSETTO:+0200
TZNAME:CEST
DTSTART:20230326T010000
END:DAYLIGHT
BEGIN:STANDARD
TZOFFSETFROM:+0200
TZOFFSETTO:+0100
TZNAME:CET
DTSTART:20231029T010000
END:STANDARD
BEGIN:DAYLIGHT
TZOFFSETFROM:+0100
TZOFFSETTO:+0200
TZNAME:CEST
DTSTART:20240331T010000
END:DAYLIGHT
BEGIN:STANDARD
TZOFFSETFROM:+0200
TZOFFSETTO:+0100
TZNAME:CET
DTSTART:20241027T010000
END:STANDARD
END:VTIMEZONE
BEGIN:VEVENT
DTSTART;TZID=Europe/Berlin:20231110T150000
DTEND;TZID=Europe/Berlin:20231110T163000
DTSTAMP:20260424T201908
CREATED:20231108T090951Z
LAST-MODIFIED:20231108T102816Z
UID:636-1699628400-1699633800@homm-berlin.de
SUMMARY:Elterncafé
DESCRIPTION:Liebe Eltern\, \nam 10.11.23 wollen wir\, die M&Ms\, ein Elterncafè veranstalten. \nDazu laden wir alle Eltern\, Freunde und Kinder der Schule von 15-16 Uhr in die Mensa ein. \nDort kann man bei Kaffee und Kuchen in Ruhe plaudern und sich kennenlernen.
URL:https://homm-berlin.de/event/elterncafe-2/
CATEGORIES:Termine für Eltern,Termine für Hortkinder
END:VEVENT
END:VCALENDAR