BEGIN:VCALENDAR
VERSION:2.0
PRODID:-//HoMM - ECPv6.15.20//NONSGML v1.0//EN
CALSCALE:GREGORIAN
METHOD:PUBLISH
X-ORIGINAL-URL:https://homm-berlin.de
X-WR-CALDESC:Veranstaltungen für HoMM
REFRESH-INTERVAL;VALUE=DURATION:PT1H
X-Robots-Tag:noindex
X-PUBLISHED-TTL:PT1H
BEGIN:VTIMEZONE
TZID:Europe/Berlin
BEGIN:DAYLIGHT
TZOFFSETFROM:+0100
TZOFFSETTO:+0200
TZNAME:CEST
DTSTART:20230326T010000
END:DAYLIGHT
BEGIN:STANDARD
TZOFFSETFROM:+0200
TZOFFSETTO:+0100
TZNAME:CET
DTSTART:20231029T010000
END:STANDARD
BEGIN:DAYLIGHT
TZOFFSETFROM:+0100
TZOFFSETTO:+0200
TZNAME:CEST
DTSTART:20240331T010000
END:DAYLIGHT
BEGIN:STANDARD
TZOFFSETFROM:+0200
TZOFFSETTO:+0100
TZNAME:CET
DTSTART:20241027T010000
END:STANDARD
BEGIN:DAYLIGHT
TZOFFSETFROM:+0100
TZOFFSETTO:+0200
TZNAME:CEST
DTSTART:20250330T010000
END:DAYLIGHT
BEGIN:STANDARD
TZOFFSETFROM:+0200
TZOFFSETTO:+0100
TZNAME:CET
DTSTART:20251026T010000
END:STANDARD
END:VTIMEZONE
BEGIN:VEVENT
DTSTART;TZID=Europe/Berlin:20240927T084500
DTEND;TZID=Europe/Berlin:20240927T113000
DTSTAMP:20260422T072221
CREATED:20240923T102957Z
LAST-MODIFIED:20240923T102957Z
UID:1062-1727426700-1727436600@homm-berlin.de
SUMMARY:Gläserne Schule
DESCRIPTION:  \n \nAn diesem Tag haben Sie die Möglichkeit die Schule und den Hort kennenzulernen. \nWeitere Informationen finden Sie auf der Seite der MMG. \n 
URL:https://homm-berlin.de/event/glaeserne-schule-2/
LOCATION:MMG und HORT
CATEGORIES:Termine für Eltern
END:VEVENT
END:VCALENDAR