BEGIN:VCALENDAR
VERSION:2.0
PRODID:-//HoMM - ECPv6.15.20//NONSGML v1.0//EN
CALSCALE:GREGORIAN
METHOD:PUBLISH
X-ORIGINAL-URL:https://homm-berlin.de
X-WR-CALDESC:Veranstaltungen für HoMM
REFRESH-INTERVAL;VALUE=DURATION:PT1H
X-Robots-Tag:noindex
X-PUBLISHED-TTL:PT1H
BEGIN:VTIMEZONE
TZID:Europe/Berlin
BEGIN:DAYLIGHT
TZOFFSETFROM:+0100
TZOFFSETTO:+0200
TZNAME:CEST
DTSTART:20240331T010000
END:DAYLIGHT
BEGIN:STANDARD
TZOFFSETFROM:+0200
TZOFFSETTO:+0100
TZNAME:CET
DTSTART:20241027T010000
END:STANDARD
BEGIN:DAYLIGHT
TZOFFSETFROM:+0100
TZOFFSETTO:+0200
TZNAME:CEST
DTSTART:20250330T010000
END:DAYLIGHT
BEGIN:STANDARD
TZOFFSETFROM:+0200
TZOFFSETTO:+0100
TZNAME:CET
DTSTART:20251026T010000
END:STANDARD
BEGIN:DAYLIGHT
TZOFFSETFROM:+0100
TZOFFSETTO:+0200
TZNAME:CEST
DTSTART:20260329T010000
END:DAYLIGHT
BEGIN:STANDARD
TZOFFSETFROM:+0200
TZOFFSETTO:+0100
TZNAME:CET
DTSTART:20261025T010000
END:STANDARD
END:VTIMEZONE
BEGIN:VEVENT
DTSTART;TZID=Europe/Berlin:20250926T084500
DTEND;TZID=Europe/Berlin:20250926T113000
DTSTAMP:20260419T205844
CREATED:20250701T104101Z
LAST-MODIFIED:20250701T104101Z
UID:1279-1758876300-1758886200@homm-berlin.de
SUMMARY:GLÄSENER SCHULE - Tag der offenen Tür
DESCRIPTION:Liebe Eltern\,\nim Sommer 2026 werden Ihre Kinder eingeschult.\nDie MMG läd herzlich dazu ein\, unseren Tag der offenen Tür zu besuchen.\nWir geben den Eltern der künftigen Schulanfänger wieder die Möglichkeit\, Einblicke\nin unseren Unterrichtsalltag zu gewinnen.\nBitte informieren Sie sich im Vorfeld über eventuelle Änderungen auf unserer\nHomepage www.mmg-online.de!
URL:https://homm-berlin.de/event/glaesener-schule-tag-der-offenen-tuer/
END:VEVENT
END:VCALENDAR