BEGIN:VCALENDAR
VERSION:2.0
PRODID:-//HoMM - ECPv6.15.20//NONSGML v1.0//EN
CALSCALE:GREGORIAN
METHOD:PUBLISH
X-ORIGINAL-URL:https://homm-berlin.de
X-WR-CALDESC:Veranstaltungen für HoMM
REFRESH-INTERVAL;VALUE=DURATION:PT1H
X-Robots-Tag:noindex
X-PUBLISHED-TTL:PT1H
BEGIN:VTIMEZONE
TZID:Europe/Berlin
BEGIN:DAYLIGHT
TZOFFSETFROM:+0100
TZOFFSETTO:+0200
TZNAME:CEST
DTSTART:20220327T010000
END:DAYLIGHT
BEGIN:STANDARD
TZOFFSETFROM:+0200
TZOFFSETTO:+0100
TZNAME:CET
DTSTART:20221030T010000
END:STANDARD
BEGIN:DAYLIGHT
TZOFFSETFROM:+0100
TZOFFSETTO:+0200
TZNAME:CEST
DTSTART:20230326T010000
END:DAYLIGHT
BEGIN:STANDARD
TZOFFSETFROM:+0200
TZOFFSETTO:+0100
TZNAME:CET
DTSTART:20231029T010000
END:STANDARD
BEGIN:DAYLIGHT
TZOFFSETFROM:+0100
TZOFFSETTO:+0200
TZNAME:CEST
DTSTART:20240331T010000
END:DAYLIGHT
BEGIN:STANDARD
TZOFFSETFROM:+0200
TZOFFSETTO:+0100
TZNAME:CET
DTSTART:20241027T010000
END:STANDARD
BEGIN:DAYLIGHT
TZOFFSETFROM:+0100
TZOFFSETTO:+0200
TZNAME:CEST
DTSTART:20250330T010000
END:DAYLIGHT
BEGIN:STANDARD
TZOFFSETFROM:+0200
TZOFFSETTO:+0100
TZNAME:CET
DTSTART:20251026T010000
END:STANDARD
END:VTIMEZONE
BEGIN:VEVENT
DTSTART;TZID=Europe/Berlin:20231220T143000
DTEND;TZID=Europe/Berlin:20231220T163000
DTSTAMP:20260424T172938
CREATED:20231213T111445Z
LAST-MODIFIED:20231214T144917Z
UID:768-1703082600-1703089800@homm-berlin.de
SUMMARY:Vorweihnachtliches Waffelcafé
DESCRIPTION:Oh du Fröhliche… \nDiesmal laden euch die Eisbären ein und servieren frische und leckere Waffeln für alle Kinder. In der  Mensa könnt ihr euch für eine Spende eine leckere Waffel holen. Schaut doch mal vorbei.
URL:https://homm-berlin.de/event/vorweihnachtliches-waffelcafe/
CATEGORIES:Termine für Hortkinder
END:VEVENT
BEGIN:VEVENT
DTSTART;VALUE=DATE:20231223
DTEND;VALUE=DATE:20240108
DTSTAMP:20260424T172938
CREATED:20230913T095029Z
LAST-MODIFIED:20230913T095029Z
UID:485-1703289600-1704671999@homm-berlin.de
SUMMARY:Weihnachtsferien
DESCRIPTION:
URL:https://homm-berlin.de/event/weihnachtsferien/
CATEGORIES:Ferien
END:VEVENT
BEGIN:VEVENT
DTSTART;VALUE=DATE:20231227
DTEND;VALUE=DATE:20231230
DTSTAMP:20260424T172938
CREATED:20230928T113542Z
LAST-MODIFIED:20230928T113542Z
UID:552-1703635200-1703894399@homm-berlin.de
SUMMARY:Weihnachtsferien
DESCRIPTION:Zwischen den Feiertagen ist unsere Einrichtung geschlossen.
URL:https://homm-berlin.de/event/weihnachtsferien-2/
CATEGORIES:Schließtage
END:VEVENT
END:VCALENDAR