BEGIN:VCALENDAR
VERSION:2.0
PRODID:-//HoMM - ECPv6.15.20//NONSGML v1.0//EN
CALSCALE:GREGORIAN
METHOD:PUBLISH
X-ORIGINAL-URL:https://homm-berlin.de
X-WR-CALDESC:Veranstaltungen für HoMM
REFRESH-INTERVAL;VALUE=DURATION:PT1H
X-Robots-Tag:noindex
X-PUBLISHED-TTL:PT1H
BEGIN:VTIMEZONE
TZID:Europe/Berlin
BEGIN:DAYLIGHT
TZOFFSETFROM:+0100
TZOFFSETTO:+0200
TZNAME:CEST
DTSTART:20240331T010000
END:DAYLIGHT
BEGIN:STANDARD
TZOFFSETFROM:+0200
TZOFFSETTO:+0100
TZNAME:CET
DTSTART:20241027T010000
END:STANDARD
BEGIN:DAYLIGHT
TZOFFSETFROM:+0100
TZOFFSETTO:+0200
TZNAME:CEST
DTSTART:20250330T010000
END:DAYLIGHT
BEGIN:STANDARD
TZOFFSETFROM:+0200
TZOFFSETTO:+0100
TZNAME:CET
DTSTART:20251026T010000
END:STANDARD
BEGIN:DAYLIGHT
TZOFFSETFROM:+0100
TZOFFSETTO:+0200
TZNAME:CEST
DTSTART:20260329T010000
END:DAYLIGHT
BEGIN:STANDARD
TZOFFSETFROM:+0200
TZOFFSETTO:+0100
TZNAME:CET
DTSTART:20261025T010000
END:STANDARD
END:VTIMEZONE
BEGIN:VEVENT
DTSTART;TZID=Europe/Berlin:20250710T153000
DTEND;TZID=Europe/Berlin:20250710T163000
DTSTAMP:20260421T150555
CREATED:20250701T101733Z
LAST-MODIFIED:20250701T101733Z
UID:1275-1752161400-1752165000@homm-berlin.de
SUMMARY:(ELTERN)STAMMTISCH - Gemeinsam Zukunft gestalten
DESCRIPTION:Liebe Eltern\, Leher:innen und Erzieher:innen\,\nhabt ihr schon einmal gedacht: “An unserer Schule wäre es toll\, wenn…” ? Dann ist jetzt eure Chance! \nWir laden euch herzlich ein zu einer kreativen und lockeren Runde\, in der wir gemeinsam Visionen für unsere Schule spinnen\, Projekte schmieden und Ideen sammeln. Ob kleine Verbesserungen oder große Träume – alles ist willkommen! \nEs gibt keine falschen Ideen – nur jede Menge Möglichkeiten!\nAlso kommt vorbei\, bringt eure Gedanken und gerne Snacks\, Kekse oder Kuchen mit. Kaffee und Geschirr stellt der HoMM! \nIn der MENSA.
URL:https://homm-berlin.de/event/elternstammtisch-gemeinsam-zukunft-gestalten/
CATEGORIES:Termine für Eltern
END:VEVENT
BEGIN:VEVENT
DTSTART;TZID=Europe/Berlin:20250719T110000
DTEND;TZID=Europe/Berlin:20250719T140000
DTSTAMP:20260421T150555
CREATED:20250701T102646Z
LAST-MODIFIED:20250701T102646Z
UID:1277-1752922800-1752933600@homm-berlin.de
SUMMARY:SOMMERFEST der MMG
DESCRIPTION:Ein Sommerfest voller Spaß und Spiel!Mit liebevoll gestalteten Spielstationen und fröhlichem Miteinander wird unser Sommerfest jedes Jahr zu einem ganz besonderen Ereignis. Engagierte Eltern organisieren dieses bunte Fest für Groß und Klein. Ein Highlight für die gesamte Schulgemeinschaft!
URL:https://homm-berlin.de/event/sommerfest-der-mmg-2/
CATEGORIES:Termine für Eltern,Termine für Hortkinder
END:VEVENT
BEGIN:VEVENT
DTSTART;VALUE=DATE:20250724
DTEND;VALUE=DATE:20250908
DTSTAMP:20260421T150555
CREATED:20250722T081919Z
LAST-MODIFIED:20250722T081919Z
UID:1287-1753315200-1757289599@homm-berlin.de
SUMMARY:SOMMERFERIEN
DESCRIPTION:Es sind Sommerferien!Die Sommerpause ist da\, und wir wünschen allen eine erholsame und fröhliche Zeit. \nAktionen\, Ausflüge und weitere Angebote werden direkt von den jeweiligen Betreuungsgruppen organisiert und bekanntgegeben. \nWir wünschen euch allen einen schönen\, sonnigen Sommer mit vielen tollen Erlebnissen!
URL:https://homm-berlin.de/event/sommerferien-2/
CATEGORIES:Ferien
END:VEVENT
END:VCALENDAR